BEGIN:VCALENDAR
VERSION:2.0
PRODID:SchoolNow
CALSCALE:GREGORIAN
BEGIN:VEVENT
UID:09172534-25cf-11ea-a874-22000a97d21c
DTSTAMP:20200627T160331Z
SUMMARY:Story Time - Bubble Mania
LOCATION:Nature Center
URL;VALUE=URI:https://www.wildernesslakecdd.org/calendar/2165815/story-time
DTSTART:20200706T140000Z
DTEND:20200706T150000Z
END:VEVENT
END:VCALENDAR
