BEGIN:VCALENDAR
VERSION:2.0
PRODID:SchoolNow
CALSCALE:GREGORIAN
BEGIN:VEVENT
UID:09166ed2-25cf-11ea-a82c-22000a97d21c
DTSTAMP:20200627T160028Z
SUMMARY:Story Time - Scavenger Hunt
LOCATION:Nature Center
URL;VALUE=URI:https://www.wildernesslakecdd.org/calendar/2165814/story-time
DTSTART:20200629T140000Z
DTEND:20200629T150000Z
END:VEVENT
END:VCALENDAR
