BEGIN:VCALENDAR
VERSION:2.0
PRODID:SchoolNow
CALSCALE:GREGORIAN
BEGIN:VEVENT
UID:091658ac-25cf-11ea-934c-22000a97d21c
DTSTAMP:20200622T135431Z
SUMMARY:Story Time
LOCATION:Nature Center
URL;VALUE=URI:https://www.wildernesslakecdd.org/calendar/2165813/story-time
DTSTART:20200622T140000Z
DTEND:20200622T150000Z
END:VEVENT
END:VCALENDAR
