BEGIN:VCALENDAR
VERSION:2.0
PRODID:SchoolNow
CALSCALE:GREGORIAN
BEGIN:VEVENT
UID:09164254-25cf-11ea-973c-22000a97d21c
DTSTAMP:20200612T194233Z
SUMMARY:Story Time - Canceled
LOCATION:Activities Center
URL;VALUE=URI:https://www.wildernesslakecdd.org/calendar/2165812/story-time
DTSTART:20200615T140000Z
DTEND:20200615T150000Z
END:VEVENT
END:VCALENDAR
