BEGIN:VCALENDAR
VERSION:2.0
PRODID:SchoolNow
CALSCALE:GREGORIAN
BEGIN:VEVENT
UID:09161540-25cf-11ea-805c-22000a97d21c
DTSTAMP:20200515T013447Z
SUMMARY:Story Time - Cancelled
LOCATION:Activities Center
URL;VALUE=URI:https://www.wildernesslakecdd.org/calendar/2165810/story-time
DTSTART:20200601T140000Z
DTEND:20200601T150000Z
END:VEVENT
END:VCALENDAR
