BEGIN:VCALENDAR
VERSION:2.0
PRODID:SchoolNow
CALSCALE:GREGORIAN
BEGIN:VEVENT
UID:0915fd9e-25cf-11ea-86dc-22000a97d21c
DTSTAMP:20200515T013202Z
SUMMARY:Story Time - Cancelled
LOCATION:Activities Center
URL;VALUE=URI:https://www.wildernesslakecdd.org/calendar/2165809/story-time
DTSTART:20200518T140000Z
DTEND:20200518T150000Z
END:VEVENT
END:VCALENDAR
