BEGIN:VCALENDAR
VERSION:2.0
PRODID:SchoolNow
CALSCALE:GREGORIAN
BEGIN:VEVENT
UID:0915e5d4-25cf-11ea-ab91-22000a97d21c
DTSTAMP:20200508T123606Z
SUMMARY:Story Time - Cancelled
LOCATION:Activities Center
URL;VALUE=URI:https://www.wildernesslakecdd.org/calendar/2165808/story-time
DTSTART:20200511T140000Z
DTEND:20200511T150000Z
END:VEVENT
END:VCALENDAR
