BEGIN:VCALENDAR
VERSION:2.0
PRODID:SchoolNow
CALSCALE:GREGORIAN
BEGIN:VEVENT
UID:09151942-25cf-11ea-9ffc-22000a97d21c
DTSTAMP:20200508T003251Z
SUMMARY:Story Time
LOCATION:Activities Center
URL;VALUE=URI:https://www.wildernesslakecdd.org/calendar/2165806/story-time
DTSTART:20200427T140000Z
DTEND:20200427T150000Z
END:VEVENT
END:VCALENDAR
