BEGIN:VCALENDAR
VERSION:2.0
PRODID:SchoolNow
CALSCALE:GREGORIAN
BEGIN:VEVENT
UID:091502b8-25cf-11ea-bbca-22000a97d21c
DTSTAMP:20200508T003250Z
SUMMARY:Story Time
LOCATION:Activities Center
URL;VALUE=URI:https://www.wildernesslakecdd.org/calendar/2165805/story-time
DTSTART:20200420T140000Z
DTEND:20200420T150000Z
END:VEVENT
END:VCALENDAR
