BEGIN:VCALENDAR
VERSION:2.0
PRODID:SchoolNow
CALSCALE:GREGORIAN
BEGIN:VEVENT
UID:09131714-25cf-11ea-8c09-22000a97d21c
DTSTAMP:20200508T003250Z
SUMMARY:Story Time- Tie Dye Day
LOCATION:Activities Center
URL;VALUE=URI:https://www.wildernesslakecdd.org/calendar/2165800/story-time
 -tie-dye-day
DTSTART:20200316T140000Z
DTEND:20200316T150000Z
END:VEVENT
END:VCALENDAR
