BEGIN:VCALENDAR
VERSION:2.0
PRODID:SchoolNow
CALSCALE:GREGORIAN
BEGIN:VEVENT
UID:0913006c-25cf-11ea-a85a-22000a97d21c
DTSTAMP:20200508T003250Z
SUMMARY:Story Time
LOCATION:Activities Center
URL;VALUE=URI:https://www.wildernesslakecdd.org/calendar/2165799/story-time
DTSTART:20200309T140000Z
DTEND:20200309T150000Z
END:VEVENT
END:VCALENDAR
