BEGIN:VCALENDAR
VERSION:2.0
PRODID:SchoolNow
CALSCALE:GREGORIAN
BEGIN:VEVENT
UID:0912bd96-25cf-11ea-b2bc-22000a97d21c
DTSTAMP:20200508T003250Z
SUMMARY:Story Time
LOCATION:Activities Center
URL;VALUE=URI:https://www.wildernesslakecdd.org/calendar/2165796/story-time
DTSTART:20200217T150000Z
DTEND:20200217T160000Z
END:VEVENT
END:VCALENDAR
