BEGIN:VCALENDAR
VERSION:2.0
PRODID:SchoolNow
CALSCALE:GREGORIAN
BEGIN:VEVENT
UID:09129104-25cf-11ea-91b9-22000a97d21c
DTSTAMP:20200508T003250Z
SUMMARY:Story Time
LOCATION:Activities Center
URL;VALUE=URI:https://www.wildernesslakecdd.org/calendar/2165794/story-time
DTSTART:20200203T150000Z
DTEND:20200203T160000Z
END:VEVENT
END:VCALENDAR
