BEGIN:VCALENDAR
VERSION:2.0
PRODID:SchoolNow
CALSCALE:GREGORIAN
BEGIN:VEVENT
UID:09127ac0-25cf-11ea-8989-22000a97d21c
DTSTAMP:20200508T003250Z
SUMMARY:Story Time
LOCATION:Activities Center
URL;VALUE=URI:https://www.wildernesslakecdd.org/calendar/2165793/story-time
DTSTART:20200127T150000Z
DTEND:20200127T160000Z
END:VEVENT
END:VCALENDAR
