BEGIN:VCALENDAR
VERSION:2.0
PRODID:SchoolNow
CALSCALE:GREGORIAN
BEGIN:VEVENT
UID:09126472-25cf-11ea-af78-22000a97d21c
DTSTAMP:20200508T003250Z
SUMMARY:Story Time
LOCATION:Activities Center
URL;VALUE=URI:https://www.wildernesslakecdd.org/calendar/2165792/story-time
DTSTART:20200120T150000Z
DTEND:20200120T160000Z
END:VEVENT
END:VCALENDAR
