BEGIN:VCALENDAR
VERSION:2.0
PRODID:SchoolNow
CALSCALE:GREGORIAN
BEGIN:VEVENT
UID:0912096e-25cf-11ea-a14d-22000a97d21c
DTSTAMP:20200508T003250Z
SUMMARY:Story Time
LOCATION:Activities Center
URL;VALUE=URI:https://www.wildernesslakecdd.org/calendar/2165788/story-time
DTSTART:20191223T150000Z
DTEND:20191223T160000Z
END:VEVENT
END:VCALENDAR
