BEGIN:VCALENDAR
VERSION:2.0
PRODID:SchoolNow
CALSCALE:GREGORIAN
BEGIN:VEVENT
UID:09109d0e-25cf-11ea-943b-22000a97d21c
DTSTAMP:20200508T003249Z
SUMMARY:Story Time
LOCATION:Activities Center
URL;VALUE=URI:https://www.wildernesslakecdd.org/calendar/2165786/story-time
DTSTART:20191209T150000Z
DTEND:20191209T160000Z
END:VEVENT
END:VCALENDAR
