BEGIN:VCALENDAR
VERSION:2.0
PRODID:SchoolNow
CALSCALE:GREGORIAN
BEGIN:VEVENT
UID:09106ff0-25cf-11ea-81f5-22000a97d21c
DTSTAMP:20200508T003249Z
SUMMARY:Story Time
LOCATION:Activities Center
URL;VALUE=URI:https://www.wildernesslakecdd.org/calendar/2165784/story-time
DTSTART:20191125T150000Z
DTEND:20191125T160000Z
END:VEVENT
END:VCALENDAR
