BEGIN:VCALENDAR
VERSION:2.0
PRODID:SchoolNow
CALSCALE:GREGORIAN
BEGIN:VEVENT
UID:09102d56-25cf-11ea-a322-22000a97d21c
DTSTAMP:20200508T003249Z
SUMMARY:Story Time
LOCATION:Activities Center
URL;VALUE=URI:https://www.wildernesslakecdd.org/calendar/2165781/story-time
DTSTART:20191104T150000Z
DTEND:20191104T160000Z
END:VEVENT
END:VCALENDAR
