BEGIN:VCALENDAR
VERSION:2.0
PRODID:SchoolNow
CALSCALE:GREGORIAN
BEGIN:VEVENT
UID:091000c4-25cf-11ea-8c34-22000a97d21c
DTSTAMP:20200508T003249Z
SUMMARY:Story Time
LOCATION:Activities Center
URL;VALUE=URI:https://www.wildernesslakecdd.org/calendar/2165779/story-time
DTSTART:20191021T140000Z
DTEND:20191021T150000Z
END:VEVENT
END:VCALENDAR
