BEGIN:VCALENDAR
VERSION:2.0
PRODID:SchoolNow
CALSCALE:GREGORIAN
BEGIN:VEVENT
UID:090fa67e-25cf-11ea-9e85-22000a97d21c
DTSTAMP:20200508T003249Z
SUMMARY:Story Time
LOCATION:Activities Center
URL;VALUE=URI:https://www.wildernesslakecdd.org/calendar/2165775/story-time
DTSTART:20190923T140000Z
DTEND:20190923T150000Z
END:VEVENT
END:VCALENDAR
