BEGIN:VCALENDAR
VERSION:2.0
PRODID:SchoolNow
CALSCALE:GREGORIAN
BEGIN:VEVENT
UID:090f8fb8-25cf-11ea-ae68-22000a97d21c
DTSTAMP:20200508T003249Z
SUMMARY:Story Time
LOCATION:Activities Center
URL;VALUE=URI:https://www.wildernesslakecdd.org/calendar/2165774/story-time
DTSTART:20190916T140000Z
DTEND:20190916T150000Z
END:VEVENT
END:VCALENDAR
