BEGIN:VCALENDAR
VERSION:2.0
PRODID:SchoolNow
CALSCALE:GREGORIAN
BEGIN:VEVENT
UID:090df68a-25cf-11ea-8569-22000a97d21c
DTSTAMP:20200508T003249Z
SUMMARY:Fining Meeting
LOCATION:Theater
URL;VALUE=URI:https://www.wildernesslakecdd.org/calendar/2165770/fining-mee
 ting
DTSTART:20190918T233000Z
DTEND:20190919T003000Z
END:VEVENT
END:VCALENDAR
