BEGIN:VCALENDAR
VERSION:2.0
PRODID:SchoolNow
CALSCALE:GREGORIAN
BEGIN:VEVENT
UID:090de096-25cf-11ea-b52f-22000a97d21c
DTSTAMP:20200508T003249Z
SUMMARY:Bird Club Meeting
URL;VALUE=URI:https://www.wildernesslakecdd.org/calendar/2165769/bird-club-
 meeting
DTSTART:20190918T230000Z
DTEND:20190919T000000Z
END:VEVENT
END:VCALENDAR
