BEGIN:VCALENDAR
VERSION:2.0
PRODID:SchoolNow
CALSCALE:GREGORIAN
BEGIN:VEVENT
UID:090dca70-25cf-11ea-9616-22000a97d21c
DTSTAMP:20200508T003249Z
SUMMARY:Fining Meeting
LOCATION:Theater
URL;VALUE=URI:https://www.wildernesslakecdd.org/calendar/2165768/fining-mee
 ting
DTSTART:20191016T233000Z
DTEND:20191017T003000Z
END:VEVENT
END:VCALENDAR
