BEGIN:VCALENDAR
VERSION:2.0
PRODID:SchoolNow
CALSCALE:GREGORIAN
BEGIN:VEVENT
UID:090db3d2-25cf-11ea-ac8d-22000a97d21c
DTSTAMP:20200508T003249Z
SUMMARY:Bird Club Meeting
LOCATION:Activities Center
URL;VALUE=URI:https://www.wildernesslakecdd.org/calendar/2165767/bird-club-
 meeting
DTSTART:20191016T230000Z
DTEND:20191017T003000Z
END:VEVENT
END:VCALENDAR
