BEGIN:VCALENDAR
VERSION:2.0
PRODID:SchoolNow
CALSCALE:GREGORIAN
BEGIN:VEVENT
UID:090d9d98-25cf-11ea-8834-22000a97d21c
DTSTAMP:20200508T003249Z
SUMMARY:Craft Fair
URL;VALUE=URI:https://www.wildernesslakecdd.org/calendar/2165766/craft-fair
DTSTART:20191109T150000Z
DTEND:20191109T200000Z
END:VEVENT
END:VCALENDAR
