BEGIN:VCALENDAR
VERSION:2.0
PRODID:SchoolNow
CALSCALE:GREGORIAN
BEGIN:VEVENT
UID:090d86b4-25cf-11ea-a432-22000a97d21c
DTSTAMP:20200508T003249Z
SUMMARY:Private Rental
LOCATION:Activities Center
URL;VALUE=URI:https://www.wildernesslakecdd.org/calendar/2165765/private-re
 ntal
DTSTART:20191019T190000Z
DTEND:20191020T000000Z
END:VEVENT
END:VCALENDAR
