BEGIN:VCALENDAR
VERSION:2.0
PRODID:SchoolNow
CALSCALE:GREGORIAN
BEGIN:VEVENT
UID:090d6f44-25cf-11ea-bfa2-22000a97d21c
DTSTAMP:20200508T003248Z
SUMMARY:Nature Center & Theater Closed
URL;VALUE=URI:https://www.wildernesslakecdd.org/calendar/2165764/nature-cen
 ter-theater-closed
DTSTART:20191020T120000Z
DTEND:20191028T020000Z
END:VEVENT
END:VCALENDAR
