BEGIN:VCALENDAR
VERSION:2.0
PRODID:SchoolNow
CALSCALE:GREGORIAN
BEGIN:VEVENT
UID:090d593c-25cf-11ea-8c76-22000a97d21c
DTSTAMP:20200508T003248Z
SUMMARY:Bird Club Meeting
LOCATION:Activities Center
URL;VALUE=URI:https://www.wildernesslakecdd.org/calendar/2165763/bird-club-
 meeting
DTSTART:20191121T000000Z
DTEND:20191121T013000Z
END:VEVENT
END:VCALENDAR
