BEGIN:VCALENDAR
VERSION:2.0
PRODID:SchoolNow
CALSCALE:GREGORIAN
BEGIN:VEVENT
UID:090d426c-25cf-11ea-85d7-22000a97d21c
DTSTAMP:20200508T003248Z
SUMMARY:Lodge Hours
URL;VALUE=URI:https://www.wildernesslakecdd.org/calendar/2165762/lodge-hour
 s
DTSTART:20191127T140000Z
DTEND:20191127T200000Z
END:VEVENT
END:VCALENDAR
