BEGIN:VCALENDAR
VERSION:2.0
PRODID:SchoolNow
CALSCALE:GREGORIAN
BEGIN:VEVENT
UID:090bee58-25cf-11ea-944a-22000a97d21c
DTSTAMP:20200508T003248Z
SUMMARY:Private Event
LOCATION:Activities Center
URL;VALUE=URI:https://www.wildernesslakecdd.org/calendar/2165761/private-ev
 ent
DTSTART:20191210T153000Z
DTEND:20191210T193000Z
END:VEVENT
END:VCALENDAR
