BEGIN:VCALENDAR
VERSION:2.0
PRODID:SchoolNow
CALSCALE:GREGORIAN
BEGIN:VEVENT
UID:090bd832-25cf-11ea-9bb9-22000a97d21c
DTSTAMP:20200508T003248Z
SUMMARY:Fining Meeting
LOCATION:Theater
URL;VALUE=URI:https://www.wildernesslakecdd.org/calendar/2165760/fining-mee
 ting
DTSTART:20191219T003000Z
DTEND:20191219T013000Z
END:VEVENT
END:VCALENDAR
