BEGIN:VCALENDAR
VERSION:2.0
PRODID:SchoolNow
CALSCALE:GREGORIAN
BEGIN:VEVENT
UID:090bc220-25cf-11ea-aac9-22000a97d21c
DTSTAMP:20200508T003248Z
SUMMARY:Bird Club Meeting
LOCATION:Activities Center
URL;VALUE=URI:https://www.wildernesslakecdd.org/calendar/2165759/bird-club-
 meeting
DTSTART:20191219T000000Z
DTEND:20191219T013000Z
END:VEVENT
END:VCALENDAR
