BEGIN:VCALENDAR
VERSION:2.0
PRODID:SchoolNow
CALSCALE:GREGORIAN
BEGIN:VEVENT
UID:090babd2-25cf-11ea-ba38-22000a97d21c
DTSTAMP:20200508T003248Z
SUMMARY:Lighting of the Menorah
LOCATION:Activities Center
URL;VALUE=URI:https://www.wildernesslakecdd.org/calendar/2165758/lighting-o
 f-the-menorah
DTSTART:20191222T230000Z
DTEND:20191223T010000Z
END:VEVENT
END:VCALENDAR
