BEGIN:VCALENDAR
VERSION:2.0
PRODID:SchoolNow
CALSCALE:GREGORIAN
BEGIN:VEVENT
UID:090b9430-25cf-11ea-bf4c-22000a97d21c
DTSTAMP:20200508T003248Z
SUMMARY:Closed for Christmas
URL;VALUE=URI:https://www.wildernesslakecdd.org/calendar/2165757/closed-for
 -christmas
DTSTART:20191225T130000Z
DTEND:20191226T020000Z
END:VEVENT
END:VCALENDAR
