BEGIN:VCALENDAR
VERSION:2.0
PRODID:SchoolNow
CALSCALE:GREGORIAN
BEGIN:VEVENT
UID:090b7dec-25cf-11ea-939b-22000a97d21c
DTSTAMP:20200508T003248Z
SUMMARY:Lodge Hours
URL;VALUE=URI:https://www.wildernesslakecdd.org/calendar/2165756/lodge-hour
 s
DTSTART:20191224T140000Z
DTEND:20191224T200000Z
END:VEVENT
END:VCALENDAR
