BEGIN:VCALENDAR
VERSION:2.0
PRODID:SchoolNow
CALSCALE:GREGORIAN
BEGIN:VEVENT
UID:090b679e-25cf-11ea-b235-22000a97d21c
DTSTAMP:20200508T003248Z
SUMMARY:Lodge Hours
URL;VALUE=URI:https://www.wildernesslakecdd.org/calendar/2165755/lodge-hour
 s
DTSTART:20191226T170000Z
DTEND:20191227T020000Z
END:VEVENT
END:VCALENDAR
