BEGIN:VCALENDAR
VERSION:2.0
PRODID:SchoolNow
CALSCALE:GREGORIAN
BEGIN:VEVENT
UID:090b50f6-25cf-11ea-a3ed-22000a97d21c
DTSTAMP:20200508T003248Z
SUMMARY:Lodge Hours
URL;VALUE=URI:https://www.wildernesslakecdd.org/calendar/2165754/lodge-hour
 s
DTSTART:20191231T140000Z
DTEND:20191231T170000Z
END:VEVENT
END:VCALENDAR
