BEGIN:VCALENDAR
VERSION:2.0
PRODID:SchoolNow
CALSCALE:GREGORIAN
BEGIN:VEVENT
UID:090aec88-25cf-11ea-843b-22000a97d21c
DTSTAMP:20200508T003248Z
SUMMARY:No Rentals
URL;VALUE=URI:https://www.wildernesslakecdd.org/calendar/2165750/no-rentals
DTSTART:20191011T130000Z
DTEND:20191012T010000Z
END:VEVENT
END:VCALENDAR
