BEGIN:VCALENDAR
VERSION:2.0
PRODID:SchoolNow
CALSCALE:GREGORIAN
BEGIN:VEVENT
UID:090ad324-25cf-11ea-bacd-22000a97d21c
DTSTAMP:20200508T003248Z
SUMMARY:Best Decorated Haunted House Drive-By
URL;VALUE=URI:https://www.wildernesslakecdd.org/calendar/2165749/best-decor
 ated-haunted-house-drive-by
DTSTART:20191024T230000Z
DTEND:20191025T000000Z
END:VEVENT
END:VCALENDAR
