BEGIN:VCALENDAR
VERSION:2.0
PRODID:SchoolNow
CALSCALE:GREGORIAN
BEGIN:VEVENT
UID:090abbdc-25cf-11ea-9c1a-22000a97d21c
DTSTAMP:20200508T003248Z
SUMMARY:Private Rental
LOCATION:Activites Center
URL;VALUE=URI:https://www.wildernesslakecdd.org/calendar/2165748/private-re
 ntal
DTSTART:20191116T220000Z
DTEND:20191117T030000Z
END:VEVENT
END:VCALENDAR
