BEGIN:VCALENDAR
VERSION:2.0
PRODID:SchoolNow
CALSCALE:GREGORIAN
BEGIN:VEVENT
UID:09096872-25cf-11ea-94eb-22000a97d21c
DTSTAMP:20200508T003248Z
SUMMARY:No Rentals
URL;VALUE=URI:https://www.wildernesslakecdd.org/calendar/2165747/no-rentals
DTSTART:20191108T140000Z
DTEND:20191109T020000Z
END:VEVENT
END:VCALENDAR
