BEGIN:VCALENDAR
VERSION:2.0
PRODID:SchoolNow
CALSCALE:GREGORIAN
BEGIN:VEVENT
UID:0909498c-25cf-11ea-bf50-22000a97d21c
DTSTAMP:20200508T003248Z
SUMMARY:Lodge Closed for Thanksgiving
URL;VALUE=URI:https://www.wildernesslakecdd.org/calendar/2165746/lodge-clos
 ed-for-thanksgiving
DTSTART:20191128T140000Z
DTEND:20191129T020000Z
END:VEVENT
END:VCALENDAR
