BEGIN:VCALENDAR
VERSION:2.0
PRODID:SchoolNow
CALSCALE:GREGORIAN
BEGIN:VEVENT
UID:09093212-25cf-11ea-9db2-22000a97d21c
DTSTAMP:20200508T003248Z
SUMMARY:No Rentals
URL;VALUE=URI:https://www.wildernesslakecdd.org/calendar/2165745/no-rentals
DTSTART:20191129T140000Z
DTEND:20191130T020000Z
END:VEVENT
END:VCALENDAR
