BEGIN:VCALENDAR
VERSION:2.0
PRODID:SchoolNow
CALSCALE:GREGORIAN
BEGIN:VEVENT
UID:0909182c-25cf-11ea-ba40-22000a97d21c
DTSTAMP:20200508T003248Z
SUMMARY:No Rentals
URL;VALUE=URI:https://www.wildernesslakecdd.org/calendar/2165744/no-rentals
DTSTART:20191206T140000Z
DTEND:20191207T020000Z
END:VEVENT
END:VCALENDAR
