BEGIN:VCALENDAR
VERSION:2.0
PRODID:SchoolNow
CALSCALE:GREGORIAN
BEGIN:VEVENT
UID:090901b6-25cf-11ea-a11e-22000a97d21c
DTSTAMP:20200508T003248Z
SUMMARY:Best Decorated House Drive-By
URL;VALUE=URI:https://www.wildernesslakecdd.org/calendar/2165743/best-decor
 ated-house-drive-by
DTSTART:20191220T000000Z
DTEND:20191220T010000Z
END:VEVENT
END:VCALENDAR
