BEGIN:VCALENDAR
VERSION:2.0
PRODID:SchoolNow
CALSCALE:GREGORIAN
BEGIN:VEVENT
UID:0908eb7c-25cf-11ea-8cca-22000a97d21c
DTSTAMP:20200508T003248Z
SUMMARY:No Rentals
URL;VALUE=URI:https://www.wildernesslakecdd.org/calendar/2165742/no-rentals
DTSTART:20191220T140000Z
DTEND:20191221T020000Z
END:VEVENT
END:VCALENDAR
