BEGIN:VCALENDAR
VERSION:2.0
PRODID:SchoolNow
CALSCALE:GREGORIAN
BEGIN:VEVENT
UID:0908be22-25cf-11ea-b6c6-22000a97d21c
DTSTAMP:20200508T003247Z
SUMMARY:Private Rental
LOCATION:Activities Center
URL;VALUE=URI:https://www.wildernesslakecdd.org/calendar/2165740/private-re
 ntal
DTSTART:20190908T160000Z
DTEND:20190908T210000Z
END:VEVENT
END:VCALENDAR
