BEGIN:VCALENDAR
VERSION:2.0
PRODID:SchoolNow
CALSCALE:GREGORIAN
BEGIN:VEVENT
UID:0908a7b6-25cf-11ea-bfe0-22000a97d21c
DTSTAMP:20200508T003247Z
SUMMARY:Private Rental
LOCATION:Nature Center
URL;VALUE=URI:https://www.wildernesslakecdd.org/calendar/2165739/private-re
 ntal
DTSTART:20190914T200000Z
DTEND:20190915T010000Z
END:VEVENT
END:VCALENDAR
